BEGIN:VCALENDAR
VERSION:2.0
PRODID:-//BodyFix Drogheda - ECPv4.6.2//NONSGML v1.0//EN
CALSCALE:GREGORIAN
METHOD:PUBLISH
X-WR-CALNAME:BodyFix Drogheda
X-ORIGINAL-URL:http://bodyfix.ie
X-WR-CALDESC:Events for BodyFix Drogheda
BEGIN:VEVENT
DTSTART;TZID=UTC+0:20170925T183000
DTEND;TZID=UTC+0:20171106T193000
DTSTAMP:20171030T093425
CREATED:20170909T090635Z
LAST-MODIFIED:20170909T090635Z
UID:11159-1506364200-1509996600@bodyfix.ie
SUMMARY:Yoga Classes
DESCRIPTION:\nStretch\nRelax\nMindful\nTone\n\nLimited to 8 Spaces \n\n
URL:http://bodyfix.ie/event/yoga-classes/
CATEGORIES:BodyFix Events
ATTACH;FMTTYPE=image/jpeg:http://bodyfix.ie/wp-content/uploads/2017/09/yoga.jpg
ORGANIZER;CN="Cora%20McEvoy":MAILTO:cora@yis.ie
END:VEVENT
BEGIN:VEVENT
DTSTART;TZID=UTC+0:20170927T160000
DTEND;TZID=UTC+0:20171108T170000
DTSTAMP:20171030T093425
CREATED:20170409T083801Z
LAST-MODIFIED:20170909T090733Z
UID:10973-1506528000-1510160400@bodyfix.ie
SUMMARY:Yoga for Kids
DESCRIPTION:Back by popular demand 🙂 Kids Yoga @ Body Fix . \n6 Week Course Every Wednesday Starting 27th September 2017 \n4 – 5pm \nCost €50 \n\n\n
URL:http://bodyfix.ie/event/yoga-for-kids/
CATEGORIES:BodyFix Events
ATTACH;FMTTYPE=image/jpeg:http://bodyfix.ie/wp-content/uploads/2017/04/14225518930_323740e0bd_z.jpg
ORGANIZER;CN="Cora%20McEvoy":MAILTO:cora@yis.ie
END:VEVENT
BEGIN:VEVENT
DTSTART;TZID=UTC+0:20171014T100000
DTEND;TZID=UTC+0:20171125T170000
DTSTAMP:20171030T093425
CREATED:20170909T091533Z
LAST-MODIFIED:20170928T201550Z
UID:11162-1507975200-1511629200@bodyfix.ie
SUMMARY:BodyFix Attack Program
DESCRIPTION:\n6 week program\n3 sessions a week (1 Saturday am & 2 midweek classes from timetable)\nFull body analysis\nRegular Fitness Testing\nSuggested nutritional plan\n\n\n  \n  \n
URL:http://bodyfix.ie/event/bodyfix-attack-program/
CATEGORIES:BodyFix Events
ATTACH;FMTTYPE=image/jpeg:http://bodyfix.ie/wp-content/uploads/2017/04/attack.jpg
END:VEVENT
END:VCALENDAR